BEGIN:VCALENDAR
VERSION:2.0
PRODID:Festa de Santa Cruz e Andores Floridos
X-WR-CALNAME:Festa de Santa Cruz e Andores Floridos
X-WR-TIMEZONE:Europe/Lisbon
X-PUBLISHED-TTL:P1W
BEGIN:VTIMEZONE
TZID:Europe/Lisbon
X-LIC-LOCATION:Europe/Lisbon
END:VTIMEZONE
BEGIN:VEVENT
UID:69e890c7747a7
DTSTART;VALUE=DATE:20220521
SEQUENCE:0
TRANSP:OPAQUE
DTEND;VALUE=DATE:20220522
SUMMARY:Festa de Santa Cruz e Andores Floridos
CLASS:PUBLIC
DESCRIPTION:Festa de Santa Cruz e Andores Floridos
X-MICROSOFT-CDO-ALLDAYEVENT:TRUE
DTSTAMP:20260422T091135Z
END:VEVENT
END:VCALENDAR